BEGIN:VCALENDAR
VERSION:2.0
PRODID:-// - ECPv6.15.20//NONSGML v1.0//EN
CALSCALE:GREGORIAN
METHOD:PUBLISH
X-ORIGINAL-URL:https://carriedesigns.com
X-WR-CALDESC:Events for 
REFRESH-INTERVAL;VALUE=DURATION:PT1H
X-Robots-Tag:noindex
X-PUBLISHED-TTL:PT1H
BEGIN:VTIMEZONE
TZID:America/Los_Angeles
BEGIN:DAYLIGHT
TZOFFSETFROM:-0800
TZOFFSETTO:-0700
TZNAME:PDT
DTSTART:20100314T100000
END:DAYLIGHT
BEGIN:STANDARD
TZOFFSETFROM:-0700
TZOFFSETTO:-0800
TZNAME:PST
DTSTART:20101107T090000
END:STANDARD
BEGIN:DAYLIGHT
TZOFFSETFROM:-0800
TZOFFSETTO:-0700
TZNAME:PDT
DTSTART:20110313T100000
END:DAYLIGHT
BEGIN:STANDARD
TZOFFSETFROM:-0700
TZOFFSETTO:-0800
TZNAME:PST
DTSTART:20111106T090000
END:STANDARD
BEGIN:DAYLIGHT
TZOFFSETFROM:-0800
TZOFFSETTO:-0700
TZNAME:PDT
DTSTART:20120311T100000
END:DAYLIGHT
BEGIN:STANDARD
TZOFFSETFROM:-0700
TZOFFSETTO:-0800
TZNAME:PST
DTSTART:20121104T090000
END:STANDARD
BEGIN:DAYLIGHT
TZOFFSETFROM:-0800
TZOFFSETTO:-0700
TZNAME:PDT
DTSTART:20130310T100000
END:DAYLIGHT
BEGIN:STANDARD
TZOFFSETFROM:-0700
TZOFFSETTO:-0800
TZNAME:PST
DTSTART:20131103T090000
END:STANDARD
END:VTIMEZONE
BEGIN:VEVENT
DTSTART;VALUE=DATE:20120809
DTEND;VALUE=DATE:20120813
DTSTAMP:20260423T131757
CREATED:20120512T225251Z
LAST-MODIFIED:20120512T225429Z
UID:1605-1344470400-1344815999@carriedesigns.com
SUMMARY:Midwest Art and Lettering Retreat: Northfield\, MN
DESCRIPTION:August 9-12\, 2012 \n“Foundation Meets Bone” \nInformation at https://sites.google.com/site/midwestretreat/home \n 
URL:https://carriedesigns.com/events/midwest-art-and-lettering-retrea-northfield-mn/
LOCATION:Northfield\, MN\, United States
END:VEVENT
BEGIN:VEVENT
DTSTART;VALUE=DATE:20120426
DTEND;VALUE=DATE:20120429
DTSTAMP:20260423T131757
CREATED:20101114T054516Z
LAST-MODIFIED:20111024T042934Z
UID:1262-1335398400-1335657599@carriedesigns.com
SUMMARY:Guild Workshop & Lecture: Salt Lake City\, UT
DESCRIPTION:April 26-28\, 2012  Workshop and Lecture: \nLecture – “Creativity Enjoy the Unexpected” – April 26\, 2012 \nWorkshop – April 27-28\, 2012 – subject to be determined\n \nFor more information\, contact Judith Sommerfeldt (judithsommerfeldt@comcast.net) \n 
URL:https://carriedesigns.com/events/guild-workshop-salt-lake-city-ut/
LOCATION:TBD\, Salt Lake City\, UT\, United States
CATEGORIES:Uncategorized
END:VEVENT
BEGIN:VEVENT
DTSTART;VALUE=DATE:20120217
DTEND;VALUE=DATE:20120221
DTSTAMP:20260423T131757
CREATED:20110726T034239Z
LAST-MODIFIED:20111024T043340Z
UID:1499-1329436800-1329782399@carriedesigns.com
SUMMARY:"Letters California Style" Conference: Pomona\, CA
DESCRIPTION:February 17-20\, 2012   \n“Letters California Style” Conference \nFor more information\, contact Carrie Imai (carrieimai@ix.netcom.com) \n 
URL:https://carriedesigns.com/events/letters-california-style-pomona-ca/
CATEGORIES:Uncategorized
END:VEVENT
BEGIN:VEVENT
DTSTART;VALUE=DATE:20120112
DTEND;VALUE=DATE:20120323
DTSTAMP:20260423T131757
CREATED:20111024T040213Z
LAST-MODIFIED:20111024T041906Z
UID:1551-1326326400-1332460799@carriedesigns.com
SUMMARY:UCLA Extension: Italic "Classic to Contemporary"
DESCRIPTION:10 Thursdays: \nJanuary 12\, 19\, 26; February 2\, 9\, 23; March 1\, 8\, 15\, 22\,\n \n“Classic of Contemporary”  \nFor more information\, contact Carrie Imai (carrieimai@ix.netcom.com) \n 
URL:https://carriedesigns.com/events/ucla-extension-italic-classic-to-contemporary/
LOCATION:UCLA\, Brentwood\, United States
END:VEVENT
BEGIN:VEVENT
DTSTART;VALUE=DATE:20111104
DTEND;VALUE=DATE:20120210
DTSTAMP:20260423T131757
CREATED:20111024T041029Z
LAST-MODIFIED:20111024T041517Z
UID:1554-1320364800-1328831999@carriedesigns.com
SUMMARY:RAND Calligraphy Club
DESCRIPTION:6 Wednesday Evening Series beginning January 4 – February 9\, 2012\n \n“Fine Tuning the Fundamentals” \nFor more information\, contact Shirley Cromb (shirleycromb@hotmail.com) \n 
URL:https://carriedesigns.com/events/rand-calligraphy-club/
LOCATION:RAND\, Santa Monica\, United States
END:VEVENT
END:VCALENDAR